BEGIN:VCALENDAR
VERSION:2.0
PRODID:-//Passion Yarns - ECPv6.15.20//NONSGML v1.0//EN
CALSCALE:GREGORIAN
METHOD:PUBLISH
X-ORIGINAL-URL:https://passionyarns.com
X-WR-CALDESC:Events for Passion Yarns
REFRESH-INTERVAL;VALUE=DURATION:PT1H
X-Robots-Tag:noindex
X-PUBLISHED-TTL:PT1H
BEGIN:VTIMEZONE
TZID:America/Indiana/Vincennes
BEGIN:DAYLIGHT
TZOFFSETFROM:-0500
TZOFFSETTO:-0400
TZNAME:EDT
DTSTART:20250309T070000
END:DAYLIGHT
BEGIN:STANDARD
TZOFFSETFROM:-0400
TZOFFSETTO:-0500
TZNAME:EST
DTSTART:20251102T060000
END:STANDARD
BEGIN:DAYLIGHT
TZOFFSETFROM:-0500
TZOFFSETTO:-0400
TZNAME:EDT
DTSTART:20260308T070000
END:DAYLIGHT
BEGIN:STANDARD
TZOFFSETFROM:-0400
TZOFFSETTO:-0500
TZNAME:EST
DTSTART:20261101T060000
END:STANDARD
BEGIN:DAYLIGHT
TZOFFSETFROM:-0500
TZOFFSETTO:-0400
TZNAME:EDT
DTSTART:20270314T070000
END:DAYLIGHT
BEGIN:STANDARD
TZOFFSETFROM:-0400
TZOFFSETTO:-0500
TZNAME:EST
DTSTART:20271107T060000
END:STANDARD
END:VTIMEZONE
BEGIN:VEVENT
DTSTART;TZID=America/Indiana/Vincennes:20260606T100000
DTEND;TZID=America/Indiana/Vincennes:20260607T160000
DTSTAMP:20260423T154416
CREATED:20260123T160110Z
LAST-MODIFIED:20260123T160129Z
UID:16936-1780740000-1780848000@passionyarns.com
SUMMARY:Central New York Fiber Artists and Producers
DESCRIPTION:
URL:https://passionyarns.com/event/central-new-york-fibert-artists-and-producers/
LOCATION:Herkimer County Fairgrounds\, 135 Cemetery St\, Frankfort\, NY\, 13340
CATEGORIES:Fiber Event
END:VEVENT
END:VCALENDAR